BEGIN:VCALENDAR
VERSION:2.0
PRODID:-//WPC Events //NONSGML WPC Events //EN
CALSCALE:GREGORIAN
X-WR-CALNAME:Demos
BEGIN:VEVENT
CREATED:20260421T181714Z
UID:1777163114
DTEND:20260421T120000
DTSTART:20260421T120000
DTSTAMP:20260426T002514Z
LOCATION:
SEQUENCE:0
DESCRIPTION:asdasdasdsad
SUMMARY:Test
ORGANIZER:Demos
URL;VALUE=URI:https://pauloreg.com/demos/event/test-3/
TRANSP:OPAQUE
BEGIN:VALARM
ACTION:DISPLAY
TRIGGER;VALUE=DATE-TIME:20260421T120000
DESCRIPTION:Reminder for Test
END:VALARM
END:VEVENT
BEGIN:VCALENDAR
VERSION:2.0
PRODID:-//WPC Events //NONSGML WPC Events //EN
CALSCALE:GREGORIAN
X-WR-CALNAME:Demos
BEGIN:VEVENT
CREATED:20250605T132915Z
UID:1777163114
DTEND:20250605T170000
DTSTART:20250605T140000
DTSTAMP:20260426T002514Z
LOCATION:jnn
SEQUENCE:0
DESCRIPTION:
SUMMARY:WP 2
ORGANIZER:Demos
URL;VALUE=URI:https://pauloreg.com/demos/event/wp-2/
TRANSP:OPAQUE
BEGIN:VALARM
ACTION:DISPLAY
TRIGGER;VALUE=DATE-TIME:20250605T140000
DESCRIPTION:Reminder for WP 2
END:VALARM
END:VEVENT
BEGIN:VCALENDAR
VERSION:2.0
PRODID:-//WPC Events //NONSGML WPC Events //EN
CALSCALE:GREGORIAN
X-WR-CALNAME:Demos
BEGIN:VEVENT
CREATED:20250605T132722Z
UID:1777163114
DTEND:20250605T120000
DTSTART:20250605T090000
DTSTAMP:20260426T002514Z
LOCATION:
SEQUENCE:0
DESCRIPTION:
SUMMARY:WordPress
ORGANIZER:Demos
URL;VALUE=URI:https://pauloreg.com/demos/event/wordpress/
TRANSP:OPAQUE
BEGIN:VALARM
ACTION:DISPLAY
TRIGGER;VALUE=DATE-TIME:20250605T090000
DESCRIPTION:Reminder for WordPress
END:VALARM
END:VEVENT
BEGIN:VCALENDAR
VERSION:2.0
PRODID:-//WPC Events //NONSGML WPC Events //EN
CALSCALE:GREGORIAN
X-WR-CALNAME:Demos
BEGIN:VEVENT
CREATED:20250324T091538Z
UID:1777163114
DTEND;VALUE=DATE:20250324T120000
DTSTART;VALUE=DATE:20250324T000000
DTSTAMP:20260426T002514Z
LOCATION:
SEQUENCE:0
DESCRIPTION:evento nello stesso giorno
SUMMARY:Seconda prova
ORGANIZER:Demos
URL;VALUE=URI:https://pauloreg.com/demos/event/seconda-prova/
TRANSP:OPAQUE
BEGIN:VALARM
ACTION:DISPLAY
TRIGGER;VALUE=DATE-TIME:20250324T000000
DESCRIPTION:Reminder for Seconda prova
END:VALARM
END:VEVENT
BEGIN:VCALENDAR
VERSION:2.0
PRODID:-//WPC Events //NONSGML WPC Events //EN
CALSCALE:GREGORIAN
X-WR-CALNAME:Demos
BEGIN:VEVENT
CREATED:20250324T091345Z
UID:1777163114
DTEND:20250325T090000
DTSTART:20250324T120000
DTSTAMP:20260426T002514Z
LOCATION:
SEQUENCE:0
DESCRIPTION:questa è una prova
SUMMARY:prova evento
ORGANIZER:Demos
URL;VALUE=URI:https://pauloreg.com/demos/event/prova-evento/
TRANSP:OPAQUE
BEGIN:VALARM
ACTION:DISPLAY
TRIGGER;VALUE=DATE-TIME:20250324T120000
DESCRIPTION:Reminder for prova evento
END:VALARM
END:VEVENT
BEGIN:VCALENDAR
VERSION:2.0
PRODID:-//WPC Events //NONSGML WPC Events //EN
CALSCALE:GREGORIAN
X-WR-CALNAME:Demos
BEGIN:VEVENT
CREATED:20250310T182256Z
UID:1777163114
DTEND;VALUE=DATE:20250310T120000
DTSTART;VALUE=DATE:20250310T120000
DTSTAMP:20260426T002514Z
LOCATION:
SEQUENCE:0
DESCRIPTION:This is the description of the Test Event
SUMMARY:Test Event
ORGANIZER:Demos
URL;VALUE=URI:https://pauloreg.com/demos/event/test-event-2/
TRANSP:OPAQUE
BEGIN:VALARM
ACTION:DISPLAY
TRIGGER;VALUE=DATE-TIME:20250310T120000
DESCRIPTION:Reminder for Test Event
END:VALARM
END:VEVENT
BEGIN:VCALENDAR
VERSION:2.0
PRODID:-//WPC Events //NONSGML WPC Events //EN
CALSCALE:GREGORIAN
X-WR-CALNAME:Demos
BEGIN:VEVENT
CREATED:20250206T005234Z
UID:1777163114
DTEND:20250207T165100
DTSTART:20250207T145000
DTSTAMP:20260426T002514Z
LOCATION:
SEQUENCE:0
DESCRIPTION: 
SUMMARY:Community Event
ORGANIZER:Demos
URL;VALUE=URI:https://pauloreg.com/demos/event/community-event/
TRANSP:OPAQUE
BEGIN:VALARM
ACTION:DISPLAY
TRIGGER;VALUE=DATE-TIME:20250207T145000
DESCRIPTION:Reminder for Community Event
END:VALARM
END:VEVENT
BEGIN:VCALENDAR
VERSION:2.0
PRODID:-//WPC Events //NONSGML WPC Events //EN
CALSCALE:GREGORIAN
X-WR-CALNAME:Demos
BEGIN:VEVENT
CREATED:20250119T005001Z
UID:1777163114
DTEND:20250121T200000
DTSTART:20250121T193000
DTSTAMP:20260426T002514Z
LOCATION:
SEQUENCE:0
DESCRIPTION:Come Vote
SUMMARY:Annual Electin
ORGANIZER:Demos
URL;VALUE=URI:https://pauloreg.com/demos/event/annual-electin/
TRANSP:OPAQUE
BEGIN:VALARM
ACTION:DISPLAY
TRIGGER;VALUE=DATE-TIME:20250121T193000
DESCRIPTION:Reminder for Annual Electin
END:VALARM
END:VEVENT
BEGIN:VCALENDAR
VERSION:2.0
PRODID:-//WPC Events //NONSGML WPC Events //EN
CALSCALE:GREGORIAN
X-WR-CALNAME:Demos
BEGIN:VEVENT
CREATED:20241201T031409Z
UID:1777163114
DTEND:20250820T110800
DTSTART:20250820T100800
DTSTAMP:20260426T002514Z
LOCATION:
SEQUENCE:0
DESCRIPTION:woohoo!
SUMMARY:Christmas Shopping Day
ORGANIZER:Demos
URL;VALUE=URI:https://pauloreg.com/demos/event/christmas-shopping-day/
TRANSP:OPAQUE
BEGIN:VALARM
ACTION:DISPLAY
TRIGGER;VALUE=DATE-TIME:20250820T100800
DESCRIPTION:Reminder for Christmas Shopping Day
END:VALARM
END:VEVENT
BEGIN:VCALENDAR
VERSION:2.0
PRODID:-//WPC Events //NONSGML WPC Events //EN
CALSCALE:GREGORIAN
X-WR-CALNAME:Demos
BEGIN:VEVENT
CREATED:20240913T025448Z
UID:1777163114
DTEND:20241119T015100
DTSTART:20241118T015100
DTSTAMP:20260426T002514Z
LOCATION:
SEQUENCE:0
DESCRIPTION:″Ulang Tahun
SUMMARY:Ulang Tahun
ORGANIZER:Demos
URL;VALUE=URI:https://pauloreg.com/demos/event/ulang-tahun/
TRANSP:OPAQUE
BEGIN:VALARM
ACTION:DISPLAY
TRIGGER;VALUE=DATE-TIME:20241118T015100
DESCRIPTION:Reminder for Ulang Tahun
END:VALARM
END:VEVENT
END:VCALENDAR
		